BEGIN:VCALENDAR
VERSION:2.0
PRODID:-//eventon.com NONSGML v1.0//EN
BEGIN:VEVENT
UID:69e84ad0bc3fb
DTSTAMP:20260422T061304
DTSTART:20260213T113000Z
DTEND:20260213T120000Z
TZID:Europe/Berlin
LOCATION:UR - Hörsaal 8 
SUMMARY:Was ist Philosophie und wie studiert man das?
DESCRIPTION: Was ist Philosophie und wie studiert man das?
URL:https://www.regensburger-hochschultag.de/events/philosophie-2/
END:VEVENT
END:VCALENDAR